BEGIN:VCALENDAR
VERSION:2.0
PRODID:-//City of Lewistown, IL - ECPv6.15.20//NONSGML v1.0//EN
CALSCALE:GREGORIAN
METHOD:PUBLISH
X-WR-CALNAME:City of Lewistown, IL
X-ORIGINAL-URL:https://lewistownillinois.org
X-WR-CALDESC:Events for City of Lewistown, IL
REFRESH-INTERVAL;VALUE=DURATION:PT1H
X-Robots-Tag:noindex
X-PUBLISHED-TTL:PT1H
BEGIN:VTIMEZONE
TZID:America/Chicago
BEGIN:DAYLIGHT
TZOFFSETFROM:-0600
TZOFFSETTO:-0500
TZNAME:CDT
DTSTART:20250309T080000
END:DAYLIGHT
BEGIN:STANDARD
TZOFFSETFROM:-0500
TZOFFSETTO:-0600
TZNAME:CST
DTSTART:20251102T070000
END:STANDARD
BEGIN:DAYLIGHT
TZOFFSETFROM:-0600
TZOFFSETTO:-0500
TZNAME:CDT
DTSTART:20260308T080000
END:DAYLIGHT
BEGIN:STANDARD
TZOFFSETFROM:-0500
TZOFFSETTO:-0600
TZNAME:CST
DTSTART:20261101T070000
END:STANDARD
BEGIN:DAYLIGHT
TZOFFSETFROM:-0600
TZOFFSETTO:-0500
TZNAME:CDT
DTSTART:20270314T080000
END:DAYLIGHT
BEGIN:STANDARD
TZOFFSETFROM:-0500
TZOFFSETTO:-0600
TZNAME:CST
DTSTART:20271107T070000
END:STANDARD
END:VTIMEZONE
BEGIN:VEVENT
DTSTART;TZID=America/Chicago:20260425T100000
DTEND;TZID=America/Chicago:20260425T170000
DTSTAMP:20260422T121020
CREATED:20260417T153152Z
LAST-MODIFIED:20260417T153152Z
UID:262619-1777111200-1777136400@lewistownillinois.org
SUMMARY:St. Jude sxs ride
DESCRIPTION:Saturday\, April 25th \nFulton County Fairgrounds- Lewistown\, IL \nSign up starts at 10 & pull out at noon\, $20 per person
URL:https://lewistownillinois.org/event/st-jude-sxs-ride/
LOCATION:Fulton County Fairgrounds\, 1377 S Main St\, Lewistown\, IL\, 61542\, United States
END:VEVENT
BEGIN:VEVENT
DTSTART;TZID=America/Chicago:20260428T080000
DTEND;TZID=America/Chicago:20260428T170000
DTSTAMP:20260422T121020
CREATED:20260417T152239Z
LAST-MODIFIED:20260417T152758Z
UID:262612-1777363200-1777395600@lewistownillinois.org
SUMMARY:VFW Meal
DESCRIPTION:Grilled Pork Chop Sandwich\, Mac & Cheese
URL:https://lewistownillinois.org/event/vfw-meal-11/
LOCATION:VFW Post 5001\, 1323 S Main St\, Lewistown\, IL\, 61542\, United States
CATEGORIES:VFW Meals
END:VEVENT
BEGIN:VEVENT
DTSTART;TZID=America/Chicago:20260505T080000
DTEND;TZID=America/Chicago:20260505T170000
DTSTAMP:20260422T121020
CREATED:20260417T152520Z
LAST-MODIFIED:20260417T152825Z
UID:262615-1777968000-1778000400@lewistownillinois.org
SUMMARY:VFW Meal
DESCRIPTION:Grilled Chicken Sandwich\, Side Salad & Cottage Cheese
URL:https://lewistownillinois.org/event/vfw-meal-12/
LOCATION:VFW Post 5001\, 1323 S Main St\, Lewistown\, IL\, 61542\, United States
CATEGORIES:VFW Meals
END:VEVENT
END:VCALENDAR